BEGIN:VCALENDAR
VERSION:2.0
PRODID:-//ESEIA - European Sustainable Energy Innovation Alliance - ECPv6.15.20//NONSGML v1.0//EN
CALSCALE:GREGORIAN
METHOD:PUBLISH
X-ORIGINAL-URL:https://eseia.eu
X-WR-CALDESC:Events for ESEIA - European Sustainable Energy Innovation Alliance
REFRESH-INTERVAL;VALUE=DURATION:PT1H
X-Robots-Tag:noindex
X-PUBLISHED-TTL:PT1H
BEGIN:VTIMEZONE
TZID:Europe/Berlin
BEGIN:DAYLIGHT
TZOFFSETFROM:+0100
TZOFFSETTO:+0200
TZNAME:CEST
DTSTART:20200329T010000
END:DAYLIGHT
BEGIN:STANDARD
TZOFFSETFROM:+0200
TZOFFSETTO:+0100
TZNAME:CET
DTSTART:20201025T010000
END:STANDARD
BEGIN:DAYLIGHT
TZOFFSETFROM:+0100
TZOFFSETTO:+0200
TZNAME:CEST
DTSTART:20210328T010000
END:DAYLIGHT
BEGIN:STANDARD
TZOFFSETFROM:+0200
TZOFFSETTO:+0100
TZNAME:CET
DTSTART:20211031T010000
END:STANDARD
BEGIN:DAYLIGHT
TZOFFSETFROM:+0100
TZOFFSETTO:+0200
TZNAME:CEST
DTSTART:20220327T010000
END:DAYLIGHT
BEGIN:STANDARD
TZOFFSETFROM:+0200
TZOFFSETTO:+0100
TZNAME:CET
DTSTART:20221030T010000
END:STANDARD
BEGIN:DAYLIGHT
TZOFFSETFROM:+0100
TZOFFSETTO:+0200
TZNAME:CEST
DTSTART:20230326T010000
END:DAYLIGHT
BEGIN:STANDARD
TZOFFSETFROM:+0200
TZOFFSETTO:+0100
TZNAME:CET
DTSTART:20231029T010000
END:STANDARD
END:VTIMEZONE
BEGIN:VEVENT
DTSTART;TZID=Europe/Berlin:20220325T110000
DTEND;TZID=Europe/Berlin:20220325T120000
DTSTAMP:20260420T202956
CREATED:20211125T091049Z
LAST-MODIFIED:20221130T130414Z
UID:10000120-1648206000-1648209600@eseia.eu
SUMMARY:WG 1 Bioresources Meeting
DESCRIPTION:Become a member to read more.
URL:https://eseia.eu/event/wg-1-bioresources-meeting-4/
LOCATION:Zoom
CATEGORIES:WG 1 Bioresources
ORGANIZER;CN="ESEIA Office":MAILTO:office@eseia.eu
END:VEVENT
BEGIN:VEVENT
DTSTART;TZID=Europe/Berlin:20220308T100000
DTEND;TZID=Europe/Berlin:20220308T130000
DTSTAMP:20260420T202956
CREATED:20211203T111610Z
LAST-MODIFIED:20211203T111610Z
UID:10000127-1646733600-1646744400@eseia.eu
SUMMARY:RE4Industry telco
DESCRIPTION:Become a member to read more.
URL:https://eseia.eu/event/re4industry-telco/
LOCATION:Zoom
CATEGORIES:RE4Industry
ORGANIZER;CN="ESEIA Office":MAILTO:office@eseia.eu
END:VEVENT
BEGIN:VEVENT
DTSTART;TZID=Europe/Berlin:20220225T110000
DTEND;TZID=Europe/Berlin:20220225T120000
DTSTAMP:20260420T202956
CREATED:20211125T090619Z
LAST-MODIFIED:20220207T073327Z
UID:10000119-1645786800-1645790400@eseia.eu
SUMMARY:WG 1 Bioresources Meeting
DESCRIPTION:Become a member to read more.
URL:https://eseia.eu/event/wg-1-bioresources-meeting-3/
LOCATION:Zoom
CATEGORIES:WG 1 Bioresources
ORGANIZER;CN="ESEIA Office":MAILTO:office@eseia.eu
END:VEVENT
BEGIN:VEVENT
DTSTART;TZID=Europe/Berlin:20220222T160000
DTEND;TZID=Europe/Berlin:20220222T170000
DTSTAMP:20260420T202956
CREATED:20211125T090505Z
LAST-MODIFIED:20220207T073342Z
UID:10000118-1645545600-1645549200@eseia.eu
SUMMARY:WG 4 GovBusLeg Meeting
DESCRIPTION:Become a member to read more.
URL:https://eseia.eu/event/wg-4-govbusleg-meeting-4/
LOCATION:Zoom
CATEGORIES:WG 4 GovBusLeg
ORGANIZER;CN="ESEIA Office":MAILTO:office@eseia.eu
END:VEVENT
BEGIN:VEVENT
DTSTART;TZID=Europe/Berlin:20220128T120000
DTEND;TZID=Europe/Berlin:20220128T130000
DTSTAMP:20260420T202956
CREATED:20211125T090112Z
LAST-MODIFIED:20211125T090112Z
UID:10000117-1643371200-1643374800@eseia.eu
SUMMARY:MSCA Doctoral Networks Fullfrac
DESCRIPTION:Become a member to read more.
URL:https://eseia.eu/event/msca-doctoral-networks-fullfrac/
LOCATION:Zoom
CATEGORIES:MSCA Doctoral Networks Fullfrac
ORGANIZER;CN="ESEIA Office":MAILTO:office@eseia.eu
END:VEVENT
BEGIN:VEVENT
DTSTART;TZID=Europe/Berlin:20220128T110000
DTEND;TZID=Europe/Berlin:20220128T120000
DTSTAMP:20260420T202956
CREATED:20211125T085338Z
LAST-MODIFIED:20211125T085338Z
UID:10000116-1643367600-1643371200@eseia.eu
SUMMARY:WG 1 Bioresources Meeting
DESCRIPTION:Become a member to read more.
URL:https://eseia.eu/event/wg-1-bioresources-meeting-2/
LOCATION:Zoom
CATEGORIES:WG 1 Bioresources
ORGANIZER;CN="ESEIA Office":MAILTO:office@eseia.eu
END:VEVENT
BEGIN:VEVENT
DTSTART;TZID=Europe/Berlin:20220125T160000
DTEND;TZID=Europe/Berlin:20220125T170000
DTSTAMP:20260420T202956
CREATED:20211125T085130Z
LAST-MODIFIED:20211125T085130Z
UID:10000115-1643126400-1643130000@eseia.eu
SUMMARY:WG 4 GovBusLeg Meeting
DESCRIPTION:Become a member to read more.
URL:https://eseia.eu/event/wg-4-govbusleg-meeting-3/
LOCATION:Zoom
CATEGORIES:WG 4 GovBusLeg
ORGANIZER;CN="ESEIA Office":MAILTO:office@eseia.eu
END:VEVENT
BEGIN:VEVENT
DTSTART;TZID=Europe/Berlin:20220114T160000
DTEND;TZID=Europe/Berlin:20220114T170000
DTSTAMP:20260420T202956
CREATED:20211221T114905Z
LAST-MODIFIED:20211221T114905Z
UID:10000131-1642176000-1642179600@eseia.eu
SUMMARY:Carbon-negative sustainable biofuel production
DESCRIPTION:Become a member to read more.
URL:https://eseia.eu/event/carbon-negative-sustainable-biofuel-production-3/
LOCATION:Zoom
CATEGORIES:Carbon-negative sustainable biofuel production
ORGANIZER;CN="ESEIA Office":MAILTO:office@eseia.eu
END:VEVENT
BEGIN:VEVENT
DTSTART;TZID=Europe/Berlin:20220114T140000
DTEND;TZID=Europe/Berlin:20220114T150000
DTSTAMP:20260420T202956
CREATED:20211221T114733Z
LAST-MODIFIED:20211221T114749Z
UID:10000130-1642168800-1642172400@eseia.eu
SUMMARY:New European Bauhaus
DESCRIPTION:Become a member to read more.
URL:https://eseia.eu/event/new-european-bauhaus/
LOCATION:Zoom
CATEGORIES:New European Bauhaus
ORGANIZER;CN="ESEIA Office":MAILTO:office@eseia.eu
END:VEVENT
BEGIN:VEVENT
DTSTART;TZID=Europe/Berlin:20211217T110000
DTEND;TZID=Europe/Berlin:20211217T120000
DTSTAMP:20260420T202956
CREATED:20211125T084859Z
LAST-MODIFIED:20211125T124053Z
UID:10000114-1639738800-1639742400@eseia.eu
SUMMARY:WG 1 Bioresources Meeting
DESCRIPTION:Become a member to read more.
URL:https://eseia.eu/event/wg-1-bioresources-meeting/
LOCATION:Zoom
CATEGORIES:WG 1 Bioresources
ORGANIZER;CN="ESEIA Office":MAILTO:office@eseia.eu
END:VEVENT
BEGIN:VEVENT
DTSTART;TZID=Europe/Berlin:20211203T160000
DTEND;TZID=Europe/Berlin:20211203T170000
DTSTAMP:20260420T202956
CREATED:20211125T083841Z
LAST-MODIFIED:20211202T111959Z
UID:10000113-1638547200-1638550800@eseia.eu
SUMMARY:Carbon-negative sustainable biofuel production
DESCRIPTION:Become a member to read more.
URL:https://eseia.eu/event/carbon-negative-sustainable-biofuel-production-2/
LOCATION:Zoom
CATEGORIES:Carbon-negative sustainable biofuel production
ORGANIZER;CN="ESEIA Office":MAILTO:office@eseia.eu
END:VEVENT
BEGIN:VEVENT
DTSTART;TZID=Europe/Berlin:20211116T130000
DTEND;TZID=Europe/Berlin:20211116T170000
DTSTAMP:20260420T202956
CREATED:20211110T111310Z
LAST-MODIFIED:20211203T113745Z
UID:10000108-1637067600-1637082000@eseia.eu
SUMMARY:ESEIA General Assembly Meeting
DESCRIPTION:Become a member to read more.
URL:https://eseia.eu/event/eseia-general-assembly-meeting/
LOCATION:Zoom
CATEGORIES:General
ORGANIZER;CN="ESEIA Office":MAILTO:office@eseia.eu
END:VEVENT
END:VCALENDAR