BEGIN:VCALENDAR
VERSION:2.0
PRODID:-//ESEIA - European Sustainable Energy Innovation Alliance - ECPv6.15.20//NONSGML v1.0//EN
CALSCALE:GREGORIAN
METHOD:PUBLISH
X-ORIGINAL-URL:https://eseia.eu
X-WR-CALDESC:Events for ESEIA - European Sustainable Energy Innovation Alliance
REFRESH-INTERVAL;VALUE=DURATION:PT1H
X-Robots-Tag:noindex
X-PUBLISHED-TTL:PT1H
BEGIN:VTIMEZONE
TZID:Europe/Berlin
BEGIN:DAYLIGHT
TZOFFSETFROM:+0100
TZOFFSETTO:+0200
TZNAME:CEST
DTSTART:20210328T010000
END:DAYLIGHT
BEGIN:STANDARD
TZOFFSETFROM:+0200
TZOFFSETTO:+0100
TZNAME:CET
DTSTART:20211031T010000
END:STANDARD
BEGIN:DAYLIGHT
TZOFFSETFROM:+0100
TZOFFSETTO:+0200
TZNAME:CEST
DTSTART:20220327T010000
END:DAYLIGHT
BEGIN:STANDARD
TZOFFSETFROM:+0200
TZOFFSETTO:+0100
TZNAME:CET
DTSTART:20221030T010000
END:STANDARD
BEGIN:DAYLIGHT
TZOFFSETFROM:+0100
TZOFFSETTO:+0200
TZNAME:CEST
DTSTART:20230326T010000
END:DAYLIGHT
BEGIN:STANDARD
TZOFFSETFROM:+0200
TZOFFSETTO:+0100
TZNAME:CET
DTSTART:20231029T010000
END:STANDARD
END:VTIMEZONE
BEGIN:VEVENT
DTSTART;TZID=Europe/Berlin:20221117T190000
DTEND;TZID=Europe/Berlin:20221117T210000
DTSTAMP:20260420T094252
CREATED:20220818T090908Z
LAST-MODIFIED:20221115T083853Z
UID:10000147-1668711600-1668718800@eseia.eu
SUMMARY:ESEIA Lecture Series: 2nd Lecture
DESCRIPTION:The second lecture – Repower Europe – will be delivered on 17 October 2022. This lecture will give a comprehensive overview of the green energy transition in Europe by looking at why we need to shift away from fossil fuels now and what it means for us as individuals and societies. The ESEIA Vice-President and President of LNEG Teresa Ponce de Leão will introduce the topic\, followed by an interactive debate among all the attendees. The lecture is free and open to all interested stakeholders\, but registration is required. Find out more here.  \n\n\n\nThis lecture is part of the new ESEIA Lecture Series entitled Sustainable Energy Innovation Systems for Climate Neutrality. Please find more information about the ESEIA Lecture Series here.
URL:https://eseia.eu/event/eseia-lecture-series-2nd-lecture/
LOCATION:TU Graz\, HS i1\, Inffeldgasse 18\, Graz\, 8010\, Austria
CATEGORIES:ESEIA Lecture Series
ORGANIZER;CN="ESEIA Office":MAILTO:office@eseia.eu
END:VEVENT
END:VCALENDAR