BEGIN:VCALENDAR
VERSION:2.0
PRODID:-//ESEIA - European Sustainable Energy Innovation Alliance - ECPv6.15.20//NONSGML v1.0//EN
CALSCALE:GREGORIAN
METHOD:PUBLISH
X-ORIGINAL-URL:https://eseia.eu
X-WR-CALDESC:Events for ESEIA - European Sustainable Energy Innovation Alliance
REFRESH-INTERVAL;VALUE=DURATION:PT1H
X-Robots-Tag:noindex
X-PUBLISHED-TTL:PT1H
BEGIN:VTIMEZONE
TZID:Europe/Berlin
BEGIN:DAYLIGHT
TZOFFSETFROM:+0100
TZOFFSETTO:+0200
TZNAME:CEST
DTSTART:20220327T010000
END:DAYLIGHT
BEGIN:STANDARD
TZOFFSETFROM:+0200
TZOFFSETTO:+0100
TZNAME:CET
DTSTART:20221030T010000
END:STANDARD
BEGIN:DAYLIGHT
TZOFFSETFROM:+0100
TZOFFSETTO:+0200
TZNAME:CEST
DTSTART:20230326T010000
END:DAYLIGHT
BEGIN:STANDARD
TZOFFSETFROM:+0200
TZOFFSETTO:+0100
TZNAME:CET
DTSTART:20231029T010000
END:STANDARD
BEGIN:DAYLIGHT
TZOFFSETFROM:+0100
TZOFFSETTO:+0200
TZNAME:CEST
DTSTART:20240331T010000
END:DAYLIGHT
BEGIN:STANDARD
TZOFFSETFROM:+0200
TZOFFSETTO:+0100
TZNAME:CET
DTSTART:20241027T010000
END:STANDARD
END:VTIMEZONE
BEGIN:VEVENT
DTSTART;TZID=Europe/Berlin:20230331T110000
DTEND;TZID=Europe/Berlin:20230331T120000
DTSTAMP:20260423T232739
CREATED:20221123T090621Z
LAST-MODIFIED:20230530T130347Z
UID:10000153-1680260400-1680264000@eseia.eu
SUMMARY:WG 1 Monthly Meeting
DESCRIPTION:WG Bioresources Monthly Meeting \n\n\n\n\n\n\n\n\n\n\n\nJoin Zoom Meetinghttps://us02web.zoom.us/j/83745301591?pwd=UnBGM2lodG02M3NqdXdoMDRiMElkQT09 \n\n\n\nMeeting ID: 837 4530 1591Passcode: 516432
URL:https://eseia.eu/event/wg-1-monthly-meeting-2/2023-03-31/
CATEGORIES:WG 1 Bioresources
END:VEVENT
END:VCALENDAR