BEGIN:VCALENDAR
VERSION:2.0
PRODID:-//ESEIA - European Sustainable Energy Innovation Alliance - ECPv6.15.20//NONSGML v1.0//EN
CALSCALE:GREGORIAN
METHOD:PUBLISH
X-WR-CALNAME:ESEIA - European Sustainable Energy Innovation Alliance
X-ORIGINAL-URL:https://eseia.eu
X-WR-CALDESC:Events for ESEIA - European Sustainable Energy Innovation Alliance
REFRESH-INTERVAL;VALUE=DURATION:PT1H
X-Robots-Tag:noindex
X-PUBLISHED-TTL:PT1H
BEGIN:VTIMEZONE
TZID:Europe/Berlin
BEGIN:DAYLIGHT
TZOFFSETFROM:+0100
TZOFFSETTO:+0200
TZNAME:CEST
DTSTART:20210328T010000
END:DAYLIGHT
BEGIN:STANDARD
TZOFFSETFROM:+0200
TZOFFSETTO:+0100
TZNAME:CET
DTSTART:20211031T010000
END:STANDARD
BEGIN:DAYLIGHT
TZOFFSETFROM:+0100
TZOFFSETTO:+0200
TZNAME:CEST
DTSTART:20220327T010000
END:DAYLIGHT
BEGIN:STANDARD
TZOFFSETFROM:+0200
TZOFFSETTO:+0100
TZNAME:CET
DTSTART:20221030T010000
END:STANDARD
BEGIN:DAYLIGHT
TZOFFSETFROM:+0100
TZOFFSETTO:+0200
TZNAME:CEST
DTSTART:20230326T010000
END:DAYLIGHT
BEGIN:STANDARD
TZOFFSETFROM:+0200
TZOFFSETTO:+0100
TZNAME:CET
DTSTART:20231029T010000
END:STANDARD
END:VTIMEZONE
BEGIN:VEVENT
DTSTART;TZID=Europe/Berlin:20220114T140000
DTEND;TZID=Europe/Berlin:20220114T150000
DTSTAMP:20260425T021022
CREATED:20211221T114733Z
LAST-MODIFIED:20211221T114749Z
UID:10000130-1642168800-1642172400@eseia.eu
SUMMARY:New European Bauhaus
DESCRIPTION:Join Zoom Meeting\nhttps://us02web.zoom.us/j/89585952470?pwd=bllCWU1jeXowQk0vejlyeG9kc0VZZz09 \nMeeting ID: 895 8595 2470\nPasscode: 245536
URL:https://eseia.eu/event/new-european-bauhaus/
LOCATION:Zoom
CATEGORIES:New European Bauhaus
ORGANIZER;CN="ESEIA Office":MAILTO:office@eseia.eu
END:VEVENT
BEGIN:VEVENT
DTSTART;TZID=Europe/Berlin:20220114T160000
DTEND;TZID=Europe/Berlin:20220114T170000
DTSTAMP:20260425T021023
CREATED:20211221T114905Z
LAST-MODIFIED:20211221T114905Z
UID:10000131-1642176000-1642179600@eseia.eu
SUMMARY:Carbon-negative sustainable biofuel production
DESCRIPTION:Join Zoom Meeting\nhttps://us02web.zoom.us/j/82886745735?pwd=YlZhV05pT3Jyemk1MWtMc3Y2RTlqQT09 \nMeeting ID: 828 8674 5735\nPasscode: 583305
URL:https://eseia.eu/event/carbon-negative-sustainable-biofuel-production-3/
LOCATION:Zoom
CATEGORIES:Carbon-negative sustainable biofuel production
ORGANIZER;CN="ESEIA Office":MAILTO:office@eseia.eu
END:VEVENT
END:VCALENDAR