BEGIN:VCALENDAR
VERSION:2.0
PRODID:-//ESEIA - European Sustainable Energy Innovation Alliance - ECPv6.15.20//NONSGML v1.0//EN
CALSCALE:GREGORIAN
METHOD:PUBLISH
X-ORIGINAL-URL:https://eseia.eu
X-WR-CALDESC:Events for ESEIA - European Sustainable Energy Innovation Alliance
REFRESH-INTERVAL;VALUE=DURATION:PT1H
X-Robots-Tag:noindex
X-PUBLISHED-TTL:PT1H
BEGIN:VTIMEZONE
TZID:Europe/Berlin
BEGIN:DAYLIGHT
TZOFFSETFROM:+0100
TZOFFSETTO:+0200
TZNAME:CEST
DTSTART:20200329T010000
END:DAYLIGHT
BEGIN:STANDARD
TZOFFSETFROM:+0200
TZOFFSETTO:+0100
TZNAME:CET
DTSTART:20201025T010000
END:STANDARD
BEGIN:DAYLIGHT
TZOFFSETFROM:+0100
TZOFFSETTO:+0200
TZNAME:CEST
DTSTART:20210328T010000
END:DAYLIGHT
BEGIN:STANDARD
TZOFFSETFROM:+0200
TZOFFSETTO:+0100
TZNAME:CET
DTSTART:20211031T010000
END:STANDARD
BEGIN:DAYLIGHT
TZOFFSETFROM:+0100
TZOFFSETTO:+0200
TZNAME:CEST
DTSTART:20220327T010000
END:DAYLIGHT
BEGIN:STANDARD
TZOFFSETFROM:+0200
TZOFFSETTO:+0100
TZNAME:CET
DTSTART:20221030T010000
END:STANDARD
END:VTIMEZONE
BEGIN:VEVENT
DTSTART;TZID=Europe/Berlin:20211106T000000
DTEND;TZID=Europe/Berlin:20211106T000000
DTSTAMP:20260425T021201
CREATED:20211106T184945Z
LAST-MODIFIED:20211106T194125Z
UID:10000106-1636156800-1636156800@eseia.eu
SUMMARY:RE4INDUSTRY WORKSHOP BTG
DESCRIPTION:
URL:https://eseia.eu/event/re4industry-workshop-btg/
CATEGORIES:RE4Industry
END:VEVENT
END:VCALENDAR