BEGIN:VCALENDAR
VERSION:2.0
PRODID:-//ESEIA - European Sustainable Energy Innovation Alliance - ECPv6.15.20//NONSGML v1.0//EN
CALSCALE:GREGORIAN
METHOD:PUBLISH
X-WR-CALNAME:ESEIA - European Sustainable Energy Innovation Alliance
X-ORIGINAL-URL:https://eseia.eu
X-WR-CALDESC:Events for ESEIA - European Sustainable Energy Innovation Alliance
REFRESH-INTERVAL;VALUE=DURATION:PT1H
X-Robots-Tag:noindex
X-PUBLISHED-TTL:PT1H
BEGIN:VTIMEZONE
TZID:Europe/Berlin
BEGIN:DAYLIGHT
TZOFFSETFROM:+0100
TZOFFSETTO:+0200
TZNAME:CEST
DTSTART:20230326T010000
END:DAYLIGHT
BEGIN:STANDARD
TZOFFSETFROM:+0200
TZOFFSETTO:+0100
TZNAME:CET
DTSTART:20231029T010000
END:STANDARD
BEGIN:DAYLIGHT
TZOFFSETFROM:+0100
TZOFFSETTO:+0200
TZNAME:CEST
DTSTART:20240331T010000
END:DAYLIGHT
BEGIN:STANDARD
TZOFFSETFROM:+0200
TZOFFSETTO:+0100
TZNAME:CET
DTSTART:20241027T010000
END:STANDARD
BEGIN:DAYLIGHT
TZOFFSETFROM:+0100
TZOFFSETTO:+0200
TZNAME:CEST
DTSTART:20250330T010000
END:DAYLIGHT
BEGIN:STANDARD
TZOFFSETFROM:+0200
TZOFFSETTO:+0100
TZNAME:CET
DTSTART:20251026T010000
END:STANDARD
END:VTIMEZONE
BEGIN:VEVENT
DTSTART;TZID=Europe/Berlin:20240313T080000
DTEND;TZID=Europe/Berlin:20240313T170000
DTSTAMP:20260423T035212
CREATED:20231103T135733Z
LAST-MODIFIED:20231103T135734Z
UID:10000183-1710316800-1710349200@eseia.eu
SUMMARY:INITIATE Project Meeting
DESCRIPTION:
URL:https://eseia.eu/event/initiate-project-meeting/
END:VEVENT
BEGIN:VEVENT
DTSTART;TZID=Europe/Berlin:20240314T080000
DTEND;TZID=Europe/Berlin:20240314T170000
DTSTAMP:20260423T035212
CREATED:20231103T135833Z
LAST-MODIFIED:20231103T135834Z
UID:10000185-1710403200-1710435600@eseia.eu
SUMMARY:ESEIA GC and GA meetings
DESCRIPTION:
URL:https://eseia.eu/event/eseia-gc-and-ga-meetings/
END:VEVENT
BEGIN:VEVENT
DTSTART;TZID=Europe/Berlin:20240329T110000
DTEND;TZID=Europe/Berlin:20240329T120000
DTSTAMP:20260423T035212
CREATED:20231103T135416Z
LAST-MODIFIED:20240620T071418Z
UID:10000173-1711710000-1711713600@eseia.eu
SUMMARY:WG 1 Monthly Meeting
DESCRIPTION:
URL:https://eseia.eu/event/wg-1-monthly-meeting-3/2024-03-29/
CATEGORIES:WG 1 Bioresources
END:VEVENT
END:VCALENDAR