BEGIN:VCALENDAR
VERSION:2.0
PRODID:-//ESEIA - European Sustainable Energy Innovation Alliance - ECPv6.15.20//NONSGML v1.0//EN
CALSCALE:GREGORIAN
METHOD:PUBLISH
X-WR-CALNAME:ESEIA - European Sustainable Energy Innovation Alliance
X-ORIGINAL-URL:https://eseia.eu
X-WR-CALDESC:Events for ESEIA - European Sustainable Energy Innovation Alliance
REFRESH-INTERVAL;VALUE=DURATION:PT1H
X-Robots-Tag:noindex
X-PUBLISHED-TTL:PT1H
BEGIN:VTIMEZONE
TZID:Europe/Berlin
BEGIN:DAYLIGHT
TZOFFSETFROM:+0100
TZOFFSETTO:+0200
TZNAME:CEST
DTSTART:20210328T010000
END:DAYLIGHT
BEGIN:STANDARD
TZOFFSETFROM:+0200
TZOFFSETTO:+0100
TZNAME:CET
DTSTART:20211031T010000
END:STANDARD
BEGIN:DAYLIGHT
TZOFFSETFROM:+0100
TZOFFSETTO:+0200
TZNAME:CEST
DTSTART:20220327T010000
END:DAYLIGHT
BEGIN:STANDARD
TZOFFSETFROM:+0200
TZOFFSETTO:+0100
TZNAME:CET
DTSTART:20221030T010000
END:STANDARD
BEGIN:DAYLIGHT
TZOFFSETFROM:+0100
TZOFFSETTO:+0200
TZNAME:CEST
DTSTART:20230326T010000
END:DAYLIGHT
BEGIN:STANDARD
TZOFFSETFROM:+0200
TZOFFSETTO:+0100
TZNAME:CET
DTSTART:20231029T010000
END:STANDARD
END:VTIMEZONE
BEGIN:VEVENT
DTSTART;TZID=Europe/Berlin:20220711T080000
DTEND;TZID=Europe/Berlin:20220715T170000
DTSTAMP:20260424T121437
CREATED:20220330T081345Z
LAST-MODIFIED:20220818T083745Z
UID:10000143-1657526400-1657904400@eseia.eu
SUMMARY:SURE2022
DESCRIPTION:Sustainable Materials for Renewable Energy Applications (SURE2022) is the name of the new International Summer School organized by EPNOE and ESEIA. This in-person event will take place 11-15 July 2022 at the Institute of Materials Science of Barcelona (ICMAB\, CSIC) in Barcelona\, Spain. Please find more information about SURE2022 here.
URL:https://eseia.eu/event/epnoe-eseia-international-summer-school-2022/
CATEGORIES:ETP
END:VEVENT
BEGIN:VEVENT
DTSTART;TZID=Europe/Berlin:20220726T160000
DTEND;TZID=Europe/Berlin:20220726T170000
DTSTAMP:20260424T121437
CREATED:20220329T073747Z
LAST-MODIFIED:20220329T073747Z
UID:10000140-1658851200-1658854800@eseia.eu
SUMMARY:WG 4 GovBusLeg Meeting
DESCRIPTION:Join Zoom Meeting\nhttps://us02web.zoom.us/j/88376013592?pwd=NkJSejlvSnEzZ3lFbTM2d1lrNitqQT09 \nMeeting ID: 883 7601 3592\nPasscode: 589365
URL:https://eseia.eu/event/wg-4-govbusleg-meeting-7/
LOCATION:Zoom
CATEGORIES:WG 4 GovBusLeg
ORGANIZER;CN="ESEIA Office":MAILTO:office@eseia.eu
END:VEVENT
BEGIN:VEVENT
DTSTART;TZID=Europe/Berlin:20220729T110000
DTEND;TZID=Europe/Berlin:20220729T120000
DTSTAMP:20260424T121437
CREATED:20220329T074557Z
LAST-MODIFIED:20221123T090650Z
UID:10000141-1659092400-1659096000@eseia.eu
SUMMARY:WG 1 Bioresources Meeting
DESCRIPTION:Join Zoom Meeting\nhttps://us02web.zoom.us/j/83745301591?pwd=UnBGM2lodG02M3NqdXdoMDRiMElkQT09\n\nMeeting ID: 837 4530 1591\nPasscode: 516432
URL:https://eseia.eu/event/wg-1-bioresources-meeting-8/
LOCATION:Zoom
CATEGORIES:WG 1 Bioresources
ORGANIZER;CN="ESEIA Office":MAILTO:office@eseia.eu
END:VEVENT
END:VCALENDAR