BEGIN:VCALENDAR
VERSION:2.0
PRODID:-//ESEIA - European Sustainable Energy Innovation Alliance - ECPv6.15.20//NONSGML v1.0//EN
CALSCALE:GREGORIAN
METHOD:PUBLISH
X-WR-CALNAME:ESEIA - European Sustainable Energy Innovation Alliance
X-ORIGINAL-URL:https://eseia.eu
X-WR-CALDESC:Events for ESEIA - European Sustainable Energy Innovation Alliance
REFRESH-INTERVAL;VALUE=DURATION:PT1H
X-Robots-Tag:noindex
X-PUBLISHED-TTL:PT1H
BEGIN:VTIMEZONE
TZID:Europe/Berlin
BEGIN:DAYLIGHT
TZOFFSETFROM:+0100
TZOFFSETTO:+0200
TZNAME:CEST
DTSTART:20210328T010000
END:DAYLIGHT
BEGIN:STANDARD
TZOFFSETFROM:+0200
TZOFFSETTO:+0100
TZNAME:CET
DTSTART:20211031T010000
END:STANDARD
BEGIN:DAYLIGHT
TZOFFSETFROM:+0100
TZOFFSETTO:+0200
TZNAME:CEST
DTSTART:20220327T010000
END:DAYLIGHT
BEGIN:STANDARD
TZOFFSETFROM:+0200
TZOFFSETTO:+0100
TZNAME:CET
DTSTART:20221030T010000
END:STANDARD
BEGIN:DAYLIGHT
TZOFFSETFROM:+0100
TZOFFSETTO:+0200
TZNAME:CEST
DTSTART:20230326T010000
END:DAYLIGHT
BEGIN:STANDARD
TZOFFSETFROM:+0200
TZOFFSETTO:+0100
TZNAME:CET
DTSTART:20231029T010000
END:STANDARD
END:VTIMEZONE
BEGIN:VEVENT
DTSTART;TZID=Europe/Berlin:20220426T100000
DTEND;TZID=Europe/Berlin:20220426T120000
DTSTAMP:20260424T124415
CREATED:20211203T105631Z
LAST-MODIFIED:20211203T105631Z
UID:10000124-1650967200-1650974400@eseia.eu
SUMMARY:ESEIA Governing Council Meeting
DESCRIPTION:Become a member to read more.
URL:https://eseia.eu/event/eseia-governing-council-meeting-2/
LOCATION:Zoom
CATEGORIES:General
ORGANIZER;CN="ESEIA Office":MAILTO:office@eseia.eu
END:VEVENT
BEGIN:VEVENT
DTSTART;TZID=Europe/Berlin:20220426T130000
DTEND;TZID=Europe/Berlin:20220426T160000
DTSTAMP:20260424T124415
CREATED:20211203T105927Z
LAST-MODIFIED:20211203T105927Z
UID:10000125-1650978000-1650988800@eseia.eu
SUMMARY:ESEIA General Assembly Meeting
DESCRIPTION:Become a member to read more.
URL:https://eseia.eu/event/eseia-general-assembly-meeting-2/
LOCATION:Zoom
CATEGORIES:General
ORGANIZER;CN="ESEIA Office":MAILTO:office@eseia.eu
END:VEVENT
END:VCALENDAR