BEGIN:VCALENDAR
VERSION:2.0
PRODID:-//ESEIA - European Sustainable Energy Innovation Alliance - ECPv6.15.20//NONSGML v1.0//EN
CALSCALE:GREGORIAN
METHOD:PUBLISH
X-ORIGINAL-URL:https://eseia.eu
X-WR-CALDESC:Events for ESEIA - European Sustainable Energy Innovation Alliance
REFRESH-INTERVAL;VALUE=DURATION:PT1H
X-Robots-Tag:noindex
X-PUBLISHED-TTL:PT1H
BEGIN:VTIMEZONE
TZID:Europe/Berlin
BEGIN:DAYLIGHT
TZOFFSETFROM:+0100
TZOFFSETTO:+0200
TZNAME:CEST
DTSTART:20230326T010000
END:DAYLIGHT
BEGIN:STANDARD
TZOFFSETFROM:+0200
TZOFFSETTO:+0100
TZNAME:CET
DTSTART:20231029T010000
END:STANDARD
BEGIN:DAYLIGHT
TZOFFSETFROM:+0100
TZOFFSETTO:+0200
TZNAME:CEST
DTSTART:20240331T010000
END:DAYLIGHT
BEGIN:STANDARD
TZOFFSETFROM:+0200
TZOFFSETTO:+0100
TZNAME:CET
DTSTART:20241027T010000
END:STANDARD
BEGIN:DAYLIGHT
TZOFFSETFROM:+0100
TZOFFSETTO:+0200
TZNAME:CEST
DTSTART:20250330T010000
END:DAYLIGHT
BEGIN:STANDARD
TZOFFSETFROM:+0200
TZOFFSETTO:+0100
TZNAME:CET
DTSTART:20251026T010000
END:STANDARD
END:VTIMEZONE
BEGIN:VEVENT
DTSTART;TZID=Europe/Berlin:20241021T080000
DTEND;TZID=Europe/Berlin:20241025T170000
DTSTAMP:20260422T060726
CREATED:20241008T085628Z
LAST-MODIFIED:20241009T065123Z
UID:10000194-1729497600-1729875600@eseia.eu
SUMMARY:International Fall School on Climate Change and Biodiversity
DESCRIPTION:The Fall School on “Climate Change and Biodiversity” is aimed at doctoral students and advanced master students. \n\n\n\nParticipants will be exposed to a wide range of topics related to climate change and risk assessment. Participants will be expected to read a small selection of academic papers in preparation for course\, and to film short videos summarising course aspects that are relevant to their own research. Topics and activities in the fall school include: \n\n\n\n– Wrap-up and short video presentations (Friday) \n\n\n\n– Biodiversity science and climate modelling (Monday afternoon) \n\n\n\n– Environmental and resource economics (Tuesday morning) \n\n\n\n– Hydrology and groundwater modelling\, with a field trip to the Wagna research station (Tuesday afternoon) \n\n\n\n– Vegetation ecology and remote sensing\, with an all-day field trip to the Austrian-Slovenian border (Wednesday) \n\n\n\n– Civil protection law and climate ethics (Thursday morning) \n\n\n\n– Earth system science and glaciology (Thursday afternoon)
URL:https://eseia.eu/event/international-fall-school-on-climate-change-and-biodiversity/
CATEGORIES:Members E&T
END:VEVENT
END:VCALENDAR