BEGIN:VCALENDAR
VERSION:2.0
PRODID:-//ESEIA - European Sustainable Energy Innovation Alliance - ECPv6.15.20//NONSGML v1.0//EN
CALSCALE:GREGORIAN
METHOD:PUBLISH
X-ORIGINAL-URL:https://eseia.eu
X-WR-CALDESC:Events for ESEIA - European Sustainable Energy Innovation Alliance
REFRESH-INTERVAL;VALUE=DURATION:PT1H
X-Robots-Tag:noindex
X-PUBLISHED-TTL:PT1H
BEGIN:VTIMEZONE
TZID:Europe/Berlin
BEGIN:DAYLIGHT
TZOFFSETFROM:+0100
TZOFFSETTO:+0200
TZNAME:CEST
DTSTART:20220327T010000
END:DAYLIGHT
BEGIN:STANDARD
TZOFFSETFROM:+0200
TZOFFSETTO:+0100
TZNAME:CET
DTSTART:20221030T010000
END:STANDARD
BEGIN:DAYLIGHT
TZOFFSETFROM:+0100
TZOFFSETTO:+0200
TZNAME:CEST
DTSTART:20230326T010000
END:DAYLIGHT
BEGIN:STANDARD
TZOFFSETFROM:+0200
TZOFFSETTO:+0100
TZNAME:CET
DTSTART:20231029T010000
END:STANDARD
BEGIN:DAYLIGHT
TZOFFSETFROM:+0100
TZOFFSETTO:+0200
TZNAME:CEST
DTSTART:20240331T010000
END:DAYLIGHT
BEGIN:STANDARD
TZOFFSETFROM:+0200
TZOFFSETTO:+0100
TZNAME:CET
DTSTART:20241027T010000
END:STANDARD
END:VTIMEZONE
BEGIN:VEVENT
DTSTART;TZID=Europe/Berlin:20230427T190000
DTEND;TZID=Europe/Berlin:20230427T210000
DTSTAMP:20260423T105456
CREATED:20221123T093544Z
LAST-MODIFIED:20230417T141137Z
UID:10000162-1682622000-1682629200@eseia.eu
SUMMARY:ESEIA Lecture Series: 3rd Lecture
DESCRIPTION:Topic: New European Bauhaus for Climate Neutral Cities: Novel ways of engaging with urban and natural heritageGuest lecture by Gintaras Stauskis\, ESEIA Focus Group Leader Smart Buildings\, VILNIUS TECH\, LithuaniaResponse 1: Aglaee Degros\, TU Graz\, Head of the Institute of UrbanismResponse 2: Thomas Drage\, City of Graz\, Climate Protection OfficerExhibition of best practice: Green Divan by Sanela Pansinger – adasca e.U.Chair: Urs Hirschberg\, TU Graz\, Head of the Institute of Architecture and Media \n\n\n\nThe concept of New European Bauhaus calls on all of us to imagine and build together a sustainable and inclusive future that is beautiful for our eyes\, minds\, and souls. Our guest lecturer will address challenges and architectural practices of engaging with urban and natural heritage. He will describe the important role of art and sciences in solving the socio-cultural and environmental challenges facing modern society. How should a life cycle design process be conceived\, which construction methods used and which design mechanisms put in place to co-design a vision for the future with and for local communities? Two respondents will contribute their perspectives on European innovative city and mobility planning and how codesign processes work in the City of Graz. A Graz-based company will exhibit award-winning recent examples of best practices. \n\n\n\nRegister here to attend! \n\n\n\nThis lecture is part of the new ESEIA Lecture Series titled Sustainable Energy Innovation Systems for Climate Neutrality. Please find more information about the ESEIA Lecture Series here.
URL:https://eseia.eu/event/eseia-lecture-series-3rd-lecture/
LOCATION:Aula\, TU Graz\, Rechbauerstrasse 12\, 1. Floor\, Graz\, 8010\, Austria
CATEGORIES:ESEIA Lecture Series
ORGANIZER;CN="ESEIA Office":MAILTO:office@eseia.eu
END:VEVENT
END:VCALENDAR