BEGIN:VCALENDAR
VERSION:2.0
PRODID:-//ESEIA - European Sustainable Energy Innovation Alliance - ECPv6.15.20//NONSGML v1.0//EN
CALSCALE:GREGORIAN
METHOD:PUBLISH
X-WR-CALNAME:ESEIA - European Sustainable Energy Innovation Alliance
X-ORIGINAL-URL:https://eseia.eu
X-WR-CALDESC:Events for ESEIA - European Sustainable Energy Innovation Alliance
REFRESH-INTERVAL;VALUE=DURATION:PT1H
X-Robots-Tag:noindex
X-PUBLISHED-TTL:PT1H
BEGIN:VTIMEZONE
TZID:Europe/Berlin
BEGIN:DAYLIGHT
TZOFFSETFROM:+0100
TZOFFSETTO:+0200
TZNAME:CEST
DTSTART:20230326T010000
END:DAYLIGHT
BEGIN:STANDARD
TZOFFSETFROM:+0200
TZOFFSETTO:+0100
TZNAME:CET
DTSTART:20231029T010000
END:STANDARD
BEGIN:DAYLIGHT
TZOFFSETFROM:+0100
TZOFFSETTO:+0200
TZNAME:CEST
DTSTART:20240331T010000
END:DAYLIGHT
BEGIN:STANDARD
TZOFFSETFROM:+0200
TZOFFSETTO:+0100
TZNAME:CET
DTSTART:20241027T010000
END:STANDARD
BEGIN:DAYLIGHT
TZOFFSETFROM:+0100
TZOFFSETTO:+0200
TZNAME:CEST
DTSTART:20250330T010000
END:DAYLIGHT
BEGIN:STANDARD
TZOFFSETFROM:+0200
TZOFFSETTO:+0100
TZNAME:CET
DTSTART:20251026T010000
END:STANDARD
END:VTIMEZONE
BEGIN:VEVENT
DTSTART;TZID=Europe/Berlin:20241205T190000
DTEND;TZID=Europe/Berlin:20241205T210000
DTSTAMP:20260422T003050
CREATED:20231103T140432Z
LAST-MODIFIED:20240527T155105Z
UID:10000189-1733425200-1733432400@eseia.eu
SUMMARY:ESEIA Lecture Series: 12th Lecture
DESCRIPTION:Topic: How Can AI Help Save the Planet? \n\n\n\nFurther information will be provided in due course. \n\n\n\nThe lecture is part of the hybrid series Sustainable Energy Innovation Systems for Climate Neutrality. Please find more information about the ESEIA Lecture Series here.
URL:https://eseia.eu/event/eseia-lecture-series-12th-lecture/
LOCATION:Aula\, TU Graz\, Rechbauerstrasse 12\, 1. Floor\, Graz\, 8010\, Austria
CATEGORIES:ESEIA Lecture Series
ORGANIZER;CN="ESEIA Office":MAILTO:office@eseia.eu
END:VEVENT
END:VCALENDAR