BEGIN:VCALENDAR
VERSION:2.0
PRODID:-//ESEIA - European Sustainable Energy Innovation Alliance - ECPv6.15.20//NONSGML v1.0//EN
CALSCALE:GREGORIAN
METHOD:PUBLISH
X-ORIGINAL-URL:https://eseia.eu
X-WR-CALDESC:Events for ESEIA - European Sustainable Energy Innovation Alliance
REFRESH-INTERVAL;VALUE=DURATION:PT1H
X-Robots-Tag:noindex
X-PUBLISHED-TTL:PT1H
BEGIN:VTIMEZONE
TZID:Europe/Berlin
BEGIN:DAYLIGHT
TZOFFSETFROM:+0100
TZOFFSETTO:+0200
TZNAME:CEST
DTSTART:20230326T010000
END:DAYLIGHT
BEGIN:STANDARD
TZOFFSETFROM:+0200
TZOFFSETTO:+0100
TZNAME:CET
DTSTART:20231029T010000
END:STANDARD
BEGIN:DAYLIGHT
TZOFFSETFROM:+0100
TZOFFSETTO:+0200
TZNAME:CEST
DTSTART:20240331T010000
END:DAYLIGHT
BEGIN:STANDARD
TZOFFSETFROM:+0200
TZOFFSETTO:+0100
TZNAME:CET
DTSTART:20241027T010000
END:STANDARD
BEGIN:DAYLIGHT
TZOFFSETFROM:+0100
TZOFFSETTO:+0200
TZNAME:CEST
DTSTART:20250330T010000
END:DAYLIGHT
BEGIN:STANDARD
TZOFFSETFROM:+0200
TZOFFSETTO:+0100
TZNAME:CET
DTSTART:20251026T010000
END:STANDARD
END:VTIMEZONE
BEGIN:VEVENT
DTSTART;TZID=Europe/Berlin:20241024T190000
DTEND;TZID=Europe/Berlin:20241024T210000
DTSTAMP:20260422T035212
CREATED:20231103T140335Z
LAST-MODIFIED:20240628T072440Z
UID:10000188-1729796400-1729803600@eseia.eu
SUMMARY:ESEIA Lecture Series: 11th Lecture
DESCRIPTION:Topic: Circular Bioeconomy Start-Up Villages: From Idea to MarketGuest lecture by Evelyn Reinmuth\, UNI Hohenheim\, DEResponse 1: Melina Philippou\, Representative of start-up village Kalopanayiotis\, CYResponse 2: Annalisa Spalazzi\, Regional Science and Economic Geography\, GSSIChair: Fabio Montagnino\, Cyprus Institute\, CYI\, CYHost: Rector TU Graz\, ESEIA Vice-President \n\n\n\nRural areas in Europe struggling with development setbacks due to globalization and urbanization\, compounded by declining and aging population. The European Commission is outlining a comprehensive vision for the rural regions up to 2040 that involves initiatives like Start-Up Villages. Start-Up villages embraces innovation and entrepreneurship by combining local place and people with external resources and markets to create interdependence ecosystem. This lecture introduces circular bioeconomy start-up villages\, outlining the strategy from the idea to market\, and presents two case-study villages from Cyprus and Lithuania. The main lecture is followed by responses which will cover the start-up concept in the village\, place-based approach to problem solving\, existing initiatives and transformative resilience. This lecture will also highlight the usage of local resources to create new opportunities. \n\n\n\nWe invite you to register for onsite or online participation before 21 October 2024. \n\n\n\nThe lecture is part of the hybrid series Sustainable Energy Innovation Systems for Climate Neutrality. Please find more information about the ESEIA Lecture Series here.
URL:https://eseia.eu/event/eseia-lecture-series-11th-lecture/
LOCATION:Aula\, TU Graz\, Rechbauerstrasse 12\, 1. Floor\, Graz\, 8010\, Austria
CATEGORIES:ESEIA Lecture Series
ORGANIZER;CN="ESEIA Office":MAILTO:office@eseia.eu
END:VEVENT
END:VCALENDAR